BEGIN:VCALENDAR
VERSION:2.0
PRODID:-//Laugh With Marc - ECPv6.15.20//NONSGML v1.0//EN
CALSCALE:GREGORIAN
METHOD:PUBLISH
X-ORIGINAL-URL:https://laughwithmarc.com
X-WR-CALDESC:Events for Laugh With Marc
REFRESH-INTERVAL;VALUE=DURATION:PT1H
X-Robots-Tag:noindex
X-PUBLISHED-TTL:PT1H
BEGIN:VTIMEZONE
TZID:America/Los_Angeles
BEGIN:DAYLIGHT
TZOFFSETFROM:-0800
TZOFFSETTO:-0700
TZNAME:PDT
DTSTART:20210314T100000
END:DAYLIGHT
BEGIN:STANDARD
TZOFFSETFROM:-0700
TZOFFSETTO:-0800
TZNAME:PST
DTSTART:20211107T090000
END:STANDARD
BEGIN:DAYLIGHT
TZOFFSETFROM:-0800
TZOFFSETTO:-0700
TZNAME:PDT
DTSTART:20220313T100000
END:DAYLIGHT
BEGIN:STANDARD
TZOFFSETFROM:-0700
TZOFFSETTO:-0800
TZNAME:PST
DTSTART:20221106T090000
END:STANDARD
BEGIN:DAYLIGHT
TZOFFSETFROM:-0800
TZOFFSETTO:-0700
TZNAME:PDT
DTSTART:20230312T100000
END:DAYLIGHT
BEGIN:STANDARD
TZOFFSETFROM:-0700
TZOFFSETTO:-0800
TZNAME:PST
DTSTART:20231105T090000
END:STANDARD
END:VTIMEZONE
BEGIN:VEVENT
DTSTART;TZID=America/Los_Angeles:20220219T183000
DTEND;TZID=America/Los_Angeles:20220219T200000
DTSTAMP:20260425T211104
CREATED:20220128T201434Z
LAST-MODIFIED:20220128T201434Z
UID:2214-1645295400-1645300800@laughwithmarc.com
SUMMARY:Dubh Linn Irish Brew Pub  Comedy Night with Marc Yaffee
DESCRIPTION:Marc Yaffee performs with special guest Ron Lamprecht at Dubh Linn’s weekly comedy night
URL:https://laughwithmarc.com/event/dubh-linn-irish-brew-pub-comedy-night-with-marc-yaffee
LOCATION:Dubh Linn Irish Brew Pub\, 109 W Superior St Duluth\,\, MN 55802
END:VEVENT
BEGIN:VEVENT
DTSTART;TZID=America/Los_Angeles:20220219T210000
DTEND;TZID=America/Los_Angeles:20220219T223000
DTSTAMP:20260425T211104
CREATED:20220128T201552Z
LAST-MODIFIED:20220128T201552Z
UID:2219-1645304400-1645309800@laughwithmarc.com
SUMMARY:Dubh Linn Irish Brew Pub  Comedy Night with Marc Yaffee
DESCRIPTION:Marc Yaffee performs with special guest Ron Lamprecht at Dubh Linn’s weekly comedy night
URL:https://laughwithmarc.com/event/dubh-linn-irish-brew-pub-comedy-night-with-marc-yaffee-2
LOCATION:Dubh Linn Irish Brew Pub\, 109 W Superior St Duluth\,\, MN 55802
END:VEVENT
END:VCALENDAR