BEGIN:VCALENDAR
VERSION:2.0
PRODID:-//Laugh With Marc - ECPv6.15.20//NONSGML v1.0//EN
CALSCALE:GREGORIAN
METHOD:PUBLISH
X-WR-CALNAME:Laugh With Marc
X-ORIGINAL-URL:https://laughwithmarc.com
X-WR-CALDESC:Events for Laugh With Marc
REFRESH-INTERVAL;VALUE=DURATION:PT1H
X-Robots-Tag:noindex
X-PUBLISHED-TTL:PT1H
BEGIN:VTIMEZONE
TZID:America/Los_Angeles
BEGIN:DAYLIGHT
TZOFFSETFROM:-0800
TZOFFSETTO:-0700
TZNAME:PDT
DTSTART:20230312T100000
END:DAYLIGHT
BEGIN:STANDARD
TZOFFSETFROM:-0700
TZOFFSETTO:-0800
TZNAME:PST
DTSTART:20231105T090000
END:STANDARD
BEGIN:DAYLIGHT
TZOFFSETFROM:-0800
TZOFFSETTO:-0700
TZNAME:PDT
DTSTART:20240310T100000
END:DAYLIGHT
BEGIN:STANDARD
TZOFFSETFROM:-0700
TZOFFSETTO:-0800
TZNAME:PST
DTSTART:20241103T090000
END:STANDARD
BEGIN:DAYLIGHT
TZOFFSETFROM:-0800
TZOFFSETTO:-0700
TZNAME:PDT
DTSTART:20250309T100000
END:DAYLIGHT
BEGIN:STANDARD
TZOFFSETFROM:-0700
TZOFFSETTO:-0800
TZNAME:PST
DTSTART:20251102T090000
END:STANDARD
END:VTIMEZONE
BEGIN:VEVENT
DTSTART;TZID=America/Los_Angeles:20240504T183000
DTEND;TZID=America/Los_Angeles:20240504T193000
DTSTAMP:20260423T123706
CREATED:20240409T080741Z
LAST-MODIFIED:20240409T080741Z
UID:3277-1714847400-1714851000@laughwithmarc.com
SUMMARY:Dubh Linn’s Comedy Night
DESCRIPTION:Marc Yaffee performs with feature act\, Homer Shadowheart. Tickets available at the door\, but recommended to buy an advance as shows sell out.
URL:https://laughwithmarc.com/event/dubh-linns-comedy-night
LOCATION:Dubh Linn Irish Brew Pub\, 109 W Superior St Duluth\,\, MN 55802
END:VEVENT
BEGIN:VEVENT
DTSTART;TZID=America/Los_Angeles:20240504T210000
DTEND;TZID=America/Los_Angeles:20240504T220000
DTSTAMP:20260423T123706
CREATED:20240409T081139Z
LAST-MODIFIED:20240409T081139Z
UID:3280-1714856400-1714860000@laughwithmarc.com
SUMMARY:Dubh Linn’s Comedy Night
DESCRIPTION:Marc Yaffee performs with feature act\, Homer Shadowheart. Tickets available at the door\, but recommended to buy an advance as shows sell out.
URL:https://laughwithmarc.com/event/dubh-linns-comedy-night-2
LOCATION:Dubh Linn Irish Brew Pub\, 109 W Superior St Duluth\,\, MN 55802
END:VEVENT
END:VCALENDAR