BEGIN:VCALENDAR
VERSION:2.0
PRODID:-//Laugh With Marc - ECPv6.15.20//NONSGML v1.0//EN
CALSCALE:GREGORIAN
METHOD:PUBLISH
X-ORIGINAL-URL:https://laughwithmarc.com
X-WR-CALDESC:Events for Laugh With Marc
REFRESH-INTERVAL;VALUE=DURATION:PT1H
X-Robots-Tag:noindex
X-PUBLISHED-TTL:PT1H
BEGIN:VTIMEZONE
TZID:America/Los_Angeles
BEGIN:DAYLIGHT
TZOFFSETFROM:-0800
TZOFFSETTO:-0700
TZNAME:PDT
DTSTART:20240310T100000
END:DAYLIGHT
BEGIN:STANDARD
TZOFFSETFROM:-0700
TZOFFSETTO:-0800
TZNAME:PST
DTSTART:20241103T090000
END:STANDARD
BEGIN:DAYLIGHT
TZOFFSETFROM:-0800
TZOFFSETTO:-0700
TZNAME:PDT
DTSTART:20250309T100000
END:DAYLIGHT
BEGIN:STANDARD
TZOFFSETFROM:-0700
TZOFFSETTO:-0800
TZNAME:PST
DTSTART:20251102T090000
END:STANDARD
BEGIN:DAYLIGHT
TZOFFSETFROM:-0800
TZOFFSETTO:-0700
TZNAME:PDT
DTSTART:20260308T100000
END:DAYLIGHT
BEGIN:STANDARD
TZOFFSETFROM:-0700
TZOFFSETTO:-0800
TZNAME:PST
DTSTART:20261101T090000
END:STANDARD
END:VTIMEZONE
BEGIN:VEVENT
DTSTART;VALUE=DATE:20250316
DTEND;VALUE=DATE:20250323
DTSTAMP:20260422T195449
CREATED:20250325T174918Z
LAST-MODIFIED:20250325T175227Z
UID:3859-1742083200-1742687999@laughwithmarc.com
SUMMARY:Holland America Eurodam
DESCRIPTION:Marc performs aboard the Holland America Eurodam in the World Theater.
URL:https://laughwithmarc.com/event/holland-america-eurodam-5
END:VEVENT
BEGIN:VEVENT
DTSTART;VALUE=DATE:20250316
DTEND;VALUE=DATE:20250323
DTSTAMP:20260422T195449
CREATED:20250325T175150Z
LAST-MODIFIED:20250325T175150Z
UID:3861-1742083200-1742687999@laughwithmarc.com
SUMMARY:Holland America Nieuw Amsterdam
DESCRIPTION:Marc performs aboard the Holland America Nieuw Amsterdam in the World Theater.
URL:https://laughwithmarc.com/event/holland-america-nieuw-amsterdam-3
END:VEVENT
END:VCALENDAR