BEGIN:VCALENDAR
VERSION:2.0
PRODID:-//Laugh With Marc - ECPv6.15.20//NONSGML v1.0//EN
CALSCALE:GREGORIAN
METHOD:PUBLISH
X-ORIGINAL-URL:https://laughwithmarc.com
X-WR-CALDESC:Events for Laugh With Marc
REFRESH-INTERVAL;VALUE=DURATION:PT1H
X-Robots-Tag:noindex
X-PUBLISHED-TTL:PT1H
BEGIN:VTIMEZONE
TZID:America/Los_Angeles
BEGIN:DAYLIGHT
TZOFFSETFROM:-0800
TZOFFSETTO:-0700
TZNAME:PDT
DTSTART:20240310T100000
END:DAYLIGHT
BEGIN:STANDARD
TZOFFSETFROM:-0700
TZOFFSETTO:-0800
TZNAME:PST
DTSTART:20241103T090000
END:STANDARD
BEGIN:DAYLIGHT
TZOFFSETFROM:-0800
TZOFFSETTO:-0700
TZNAME:PDT
DTSTART:20250309T100000
END:DAYLIGHT
BEGIN:STANDARD
TZOFFSETFROM:-0700
TZOFFSETTO:-0800
TZNAME:PST
DTSTART:20251102T090000
END:STANDARD
BEGIN:DAYLIGHT
TZOFFSETFROM:-0800
TZOFFSETTO:-0700
TZNAME:PDT
DTSTART:20260308T100000
END:DAYLIGHT
BEGIN:STANDARD
TZOFFSETFROM:-0700
TZOFFSETTO:-0800
TZNAME:PST
DTSTART:20261101T090000
END:STANDARD
END:VTIMEZONE
BEGIN:VEVENT
DTSTART;TZID=America/Los_Angeles:20250417T200000
DTEND;TZID=America/Los_Angeles:20250417T213000
DTSTAMP:20260422T100331
CREATED:20250325T180053Z
LAST-MODIFIED:20250325T180156Z
UID:3868-1744920000-1744925400@laughwithmarc.com
SUMMARY:Comedy At Northern Lights Theatre Pub
DESCRIPTION:Marc performs at Northern Lights Theatre Pub’smonthly comedy series with special guest feature\, Lee Tillman.
URL:https://laughwithmarc.com/event/comedy-at-northern-lights-theater-pub
LOCATION:Northern Lights  Theatre Pub\, Salem\, OR
END:VEVENT
END:VCALENDAR