BEGIN:VCALENDAR
VERSION:2.0
PRODID:-//Laugh With Marc - ECPv6.15.20//NONSGML v1.0//EN
CALSCALE:GREGORIAN
METHOD:PUBLISH
X-ORIGINAL-URL:https://laughwithmarc.com
X-WR-CALDESC:Events for Laugh With Marc
REFRESH-INTERVAL;VALUE=DURATION:PT1H
X-Robots-Tag:noindex
X-PUBLISHED-TTL:PT1H
BEGIN:VTIMEZONE
TZID:America/Los_Angeles
BEGIN:DAYLIGHT
TZOFFSETFROM:-0800
TZOFFSETTO:-0700
TZNAME:PDT
DTSTART:20240310T100000
END:DAYLIGHT
BEGIN:STANDARD
TZOFFSETFROM:-0700
TZOFFSETTO:-0800
TZNAME:PST
DTSTART:20241103T090000
END:STANDARD
BEGIN:DAYLIGHT
TZOFFSETFROM:-0800
TZOFFSETTO:-0700
TZNAME:PDT
DTSTART:20250309T100000
END:DAYLIGHT
BEGIN:STANDARD
TZOFFSETFROM:-0700
TZOFFSETTO:-0800
TZNAME:PST
DTSTART:20251102T090000
END:STANDARD
BEGIN:DAYLIGHT
TZOFFSETFROM:-0800
TZOFFSETTO:-0700
TZNAME:PDT
DTSTART:20260308T100000
END:DAYLIGHT
BEGIN:STANDARD
TZOFFSETFROM:-0700
TZOFFSETTO:-0800
TZNAME:PST
DTSTART:20261101T090000
END:STANDARD
END:VTIMEZONE
BEGIN:VEVENT
DTSTART;TZID=America/Los_Angeles:20250418T190000
DTEND;TZID=America/Los_Angeles:20250418T203000
DTSTAMP:20260422T100330
CREATED:20250325T180854Z
LAST-MODIFIED:20250325T180936Z
UID:3875-1745002800-1745008200@laughwithmarc.com
SUMMARY:Comedy Nights at The Mill Casino
DESCRIPTION:Marc performs at the Mill Casino’s omedy night with feature Lee Tillman. Showtime 7 PM in the Salmon Showroom. \nTickets are Available starting March 21 @ Ko-Kwel Gifts at the Mill Casino or by calling 800-953-4800.
URL:https://laughwithmarc.com/event/comedy-nights-at-the-mill-casino
LOCATION:The Mill Casino\, North Bend\, OR
END:VEVENT
END:VCALENDAR