BEGIN:VCALENDAR
VERSION:2.0
PRODID:-//Laugh With Marc - ECPv6.15.20//NONSGML v1.0//EN
CALSCALE:GREGORIAN
METHOD:PUBLISH
X-WR-CALNAME:Laugh With Marc
X-ORIGINAL-URL:https://laughwithmarc.com
X-WR-CALDESC:Events for Laugh With Marc
REFRESH-INTERVAL;VALUE=DURATION:PT1H
X-Robots-Tag:noindex
X-PUBLISHED-TTL:PT1H
BEGIN:VTIMEZONE
TZID:America/Los_Angeles
BEGIN:DAYLIGHT
TZOFFSETFROM:-0800
TZOFFSETTO:-0700
TZNAME:PDT
DTSTART:20220313T100000
END:DAYLIGHT
BEGIN:STANDARD
TZOFFSETFROM:-0700
TZOFFSETTO:-0800
TZNAME:PST
DTSTART:20221106T090000
END:STANDARD
BEGIN:DAYLIGHT
TZOFFSETFROM:-0800
TZOFFSETTO:-0700
TZNAME:PDT
DTSTART:20230312T100000
END:DAYLIGHT
BEGIN:STANDARD
TZOFFSETFROM:-0700
TZOFFSETTO:-0800
TZNAME:PST
DTSTART:20231105T090000
END:STANDARD
BEGIN:DAYLIGHT
TZOFFSETFROM:-0800
TZOFFSETTO:-0700
TZNAME:PDT
DTSTART:20240310T100000
END:DAYLIGHT
BEGIN:STANDARD
TZOFFSETFROM:-0700
TZOFFSETTO:-0800
TZNAME:PST
DTSTART:20241103T090000
END:STANDARD
BEGIN:DAYLIGHT
TZOFFSETFROM:-0800
TZOFFSETTO:-0700
TZNAME:PDT
DTSTART:20250309T100000
END:DAYLIGHT
BEGIN:STANDARD
TZOFFSETFROM:-0700
TZOFFSETTO:-0800
TZNAME:PST
DTSTART:20251102T090000
END:STANDARD
END:VTIMEZONE
BEGIN:VEVENT
DTSTART;VALUE=DATE:20231227
DTEND;VALUE=DATE:20240111
DTSTAMP:20260423T031938
CREATED:20230827T200342Z
LAST-MODIFIED:20230827T200342Z
UID:3086-1703635200-1704931199@laughwithmarc.com
SUMMARY:Comedy Onboard  Holland America Eurodam
DESCRIPTION:Marc performs aboard Holland America Eurodam Dec 29 thru Jan 9.
URL:https://laughwithmarc.com/event/comedy-onboard-holland-america-eurodam
LOCATION:Holland America Eurodam
END:VEVENT
BEGIN:VEVENT
DTSTART;TZID=America/Los_Angeles:20240112T200000
DTEND;TZID=America/Los_Angeles:20240112T213000
DTSTAMP:20260423T031938
CREATED:20231228T230035Z
LAST-MODIFIED:20231228T230035Z
UID:3112-1705089600-1705095000@laughwithmarc.com
SUMMARY:CALIENTE COMEDY AT AGUA CALIENTE CASINO PALM SPRINGS
DESCRIPTION:Marc headlines the Caliente Comedy Show at Agua Caliente Palm Springs at the Cascade Lounge Showtime 8pm
URL:https://laughwithmarc.com/event/caliente-comedy-at-agua-caliente-casino-palm-springs
LOCATION:Agua Caliente Casino\, Palm Springs\, CA\, CA
END:VEVENT
BEGIN:VEVENT
DTSTART;TZID=America/Los_Angeles:20240113T190000
DTEND;TZID=America/Los_Angeles:20240113T203000
DTSTAMP:20260423T031938
CREATED:20231228T231700Z
LAST-MODIFIED:20231228T232025Z
UID:3120-1705172400-1705177800@laughwithmarc.com
SUMMARY:Comedy at the Oaks Lake Wildwood
DESCRIPTION:Marc headlines this monthly series.  Featuring Sue Alfieri and hosted by Morty Stein.  Showtime 7pm.
URL:https://laughwithmarc.com/event/comedy-at-the-oaks-lake-wildwood
LOCATION:The Oaks\, 11255 Cottontail Way\, Penn Valley\, CA
END:VEVENT
BEGIN:VEVENT
DTSTART;TZID=America/Los_Angeles:20240115T190000
DTEND;TZID=America/Los_Angeles:20240115T203000
DTSTAMP:20260423T031938
CREATED:20240105T173702Z
LAST-MODIFIED:20240105T173702Z
UID:3133-1705345200-1705350600@laughwithmarc.com
SUMMARY:Comedy Night at Anthem Sun City
DESCRIPTION:Marc Yaffee headlines this monthly comedy show at Anthem Sun City in Henderson\, NV. Showtime 7pm.
URL:https://laughwithmarc.com/event/comedy-night-at-anthem-sun-city
LOCATION:Sun City Henderson\, NV
END:VEVENT
BEGIN:VEVENT
DTSTART;TZID=America/Los_Angeles:20240117T180000
DTEND;TZID=America/Los_Angeles:20240117T193000
DTSTAMP:20260423T031938
CREATED:20240105T174251Z
LAST-MODIFIED:20240105T174251Z
UID:3136-1705514400-1705519800@laughwithmarc.com
SUMMARY:
DESCRIPTION:Marc Yaffee headlines this monthly comedy show at the Starbright Theater in Sun City\, Summerlin. Showtime 6pm.
URL:https://laughwithmarc.com/event/3136
LOCATION:Starbright Theater Summerlin\, NV
END:VEVENT
BEGIN:VEVENT
DTSTART;TZID=America/Los_Angeles:20240119T200000
DTEND;TZID=America/Los_Angeles:20240119T213000
DTSTAMP:20260423T031938
CREATED:20240105T180124Z
LAST-MODIFIED:20240105T180124Z
UID:3142-1705694400-1705699800@laughwithmarc.com
SUMMARY:Raise The Woof Fundraiser
DESCRIPTION:United Peninsula Animal Welfare Society presents Raise The Woof Comedy Night featuring Marc Yaffee and Lee Lycan.  Showtime 8pm.
URL:https://laughwithmarc.com/event/raise-the-woof-fundraiser
LOCATION:River Rock Lanes & Banquet Center\, 1011 N Rd\, Ishpeming\, MI
END:VEVENT
BEGIN:VEVENT
DTSTART;VALUE=DATE:20240124
DTEND;VALUE=DATE:20240131
DTSTAMP:20260423T031938
CREATED:20231228T232428Z
LAST-MODIFIED:20231228T232428Z
UID:3123-1706054400-1706659199@laughwithmarc.com
SUMMARY:Punchliner Comedy Club on Carnival Horizon
DESCRIPTION:Marc performs aboard Carnival Horizon January 24 to January 30.
URL:https://laughwithmarc.com/event/punchliner-comedy-club-on-carnival-horizon
LOCATION:Carnival Horizon
END:VEVENT
END:VCALENDAR