BEGIN:VCALENDAR
VERSION:2.0
PRODID:-//Laugh With Marc - ECPv6.15.20//NONSGML v1.0//EN
CALSCALE:GREGORIAN
METHOD:PUBLISH
X-WR-CALNAME:Laugh With Marc
X-ORIGINAL-URL:https://laughwithmarc.com
X-WR-CALDESC:Events for Laugh With Marc
REFRESH-INTERVAL;VALUE=DURATION:PT1H
X-Robots-Tag:noindex
X-PUBLISHED-TTL:PT1H
BEGIN:VTIMEZONE
TZID:America/Los_Angeles
BEGIN:DAYLIGHT
TZOFFSETFROM:-0800
TZOFFSETTO:-0700
TZNAME:PDT
DTSTART:20230312T100000
END:DAYLIGHT
BEGIN:STANDARD
TZOFFSETFROM:-0700
TZOFFSETTO:-0800
TZNAME:PST
DTSTART:20231105T090000
END:STANDARD
BEGIN:DAYLIGHT
TZOFFSETFROM:-0800
TZOFFSETTO:-0700
TZNAME:PDT
DTSTART:20240310T100000
END:DAYLIGHT
BEGIN:STANDARD
TZOFFSETFROM:-0700
TZOFFSETTO:-0800
TZNAME:PST
DTSTART:20241103T090000
END:STANDARD
BEGIN:DAYLIGHT
TZOFFSETFROM:-0800
TZOFFSETTO:-0700
TZNAME:PDT
DTSTART:20250309T100000
END:DAYLIGHT
BEGIN:STANDARD
TZOFFSETFROM:-0700
TZOFFSETTO:-0800
TZNAME:PST
DTSTART:20251102T090000
END:STANDARD
END:VTIMEZONE
BEGIN:VEVENT
DTSTART;VALUE=DATE:20240302
DTEND;VALUE=DATE:20240308
DTSTAMP:20260423T080309
CREATED:20240219T213913Z
LAST-MODIFIED:20240219T214607Z
UID:3168-1709337600-1709855999@laughwithmarc.com
SUMMARY:Punchliner Comedy Club
DESCRIPTION:Marc performs nighlty on Carnival Breeze inside the Punchliner Comedy Club
URL:https://laughwithmarc.com/event/punchliner-comedy-club-7
LOCATION:Carnival Breeze
END:VEVENT
BEGIN:VEVENT
DTSTART;VALUE=DATE:20240309
DTEND;VALUE=DATE:20240313
DTSTAMP:20260423T080309
CREATED:20240219T214320Z
LAST-MODIFIED:20240219T214513Z
UID:3171-1709942400-1710287999@laughwithmarc.com
SUMMARY:Punchliner Comedy Club
DESCRIPTION:Marc performs nightly onboard Carnival Vista.
URL:https://laughwithmarc.com/event/punchliner-comedy-club-8
LOCATION:Carnival Vista
END:VEVENT
BEGIN:VEVENT
DTSTART;VALUE=DATE:20240313
DTEND;VALUE=DATE:20240317
DTSTAMP:20260423T080309
CREATED:20240219T214838Z
LAST-MODIFIED:20240219T214838Z
UID:3175-1710288000-1710633599@laughwithmarc.com
SUMMARY:Punchliner Comedy Club
DESCRIPTION:Marc performs nightly onboard Carnival Spirt.
URL:https://laughwithmarc.com/event/punchliner-comedy-club-9
END:VEVENT
BEGIN:VEVENT
DTSTART;VALUE=DATE:20240317
DTEND;VALUE=DATE:20240321
DTSTAMP:20260423T080309
CREATED:20240219T215036Z
LAST-MODIFIED:20240219T215036Z
UID:3177-1710633600-1710979199@laughwithmarc.com
SUMMARY:Punchliner Comedy Club
DESCRIPTION:Marc performs nightly onboard Carnival Dream.
URL:https://laughwithmarc.com/event/punchliner-comedy-club-10
END:VEVENT
BEGIN:VEVENT
DTSTART;TZID=America/Los_Angeles:20240321T193000
DTEND;TZID=America/Los_Angeles:20240321T203000
DTSTAMP:20260423T080309
CREATED:20240221T204146Z
LAST-MODIFIED:20240221T204146Z
UID:3182-1711049400-1711053000@laughwithmarc.com
SUMMARY:Laugh Factory Reno
DESCRIPTION:Marc headlines the Laugh Factory inside Silver Legacy Casino.
URL:https://laughwithmarc.com/event/laugh-factory-reno-10
LOCATION:Silver Legacy\, Reno\, Nevada
END:VEVENT
BEGIN:VEVENT
DTSTART;TZID=America/Los_Angeles:20240322T193000
DTEND;TZID=America/Los_Angeles:20240322T203000
DTSTAMP:20260423T080309
CREATED:20240221T202651Z
LAST-MODIFIED:20240316T130245Z
UID:3185-1711135800-1711139400@laughwithmarc.com
SUMMARY:Laugh Factory Reno
DESCRIPTION:Marc headlines the Laugh Factory inside Silver Legacy Casino.
URL:https://laughwithmarc.com/event/laugh-factory-reno-8
LOCATION:Silver Legacy Casino\, Reno\, Nevada
END:VEVENT
BEGIN:VEVENT
DTSTART;TZID=America/Los_Angeles:20240322T213000
DTEND;TZID=America/Los_Angeles:20240322T223000
DTSTAMP:20260423T080309
CREATED:20240221T202623Z
LAST-MODIFIED:20240221T202623Z
UID:3179-1711143000-1711146600@laughwithmarc.com
SUMMARY:Laugh Factory Reno
DESCRIPTION:Marc headlines the Laugh Factory inside Silver Legacy Casino.
URL:https://laughwithmarc.com/event/laugh-factory-reno-7
LOCATION:Silver Legacy\, Reno\, Nevada
END:VEVENT
BEGIN:VEVENT
DTSTART;TZID=America/Los_Angeles:20240323T193000
DTEND;TZID=America/Los_Angeles:20240323T203000
DTSTAMP:20260423T080309
CREATED:20240221T203422Z
LAST-MODIFIED:20240221T203422Z
UID:3189-1711222200-1711225800@laughwithmarc.com
SUMMARY:Laugh Factory Reno
DESCRIPTION:Marc headlines the Laugh Factory inside Silver Legacy Casino.
URL:https://laughwithmarc.com/event/laugh-factory-reno-9
LOCATION:Silver Legacy Casino\, Reno\, Nevada
END:VEVENT
BEGIN:VEVENT
DTSTART;TZID=America/Los_Angeles:20240323T213000
DTEND;TZID=America/Los_Angeles:20240323T223000
DTSTAMP:20260423T080309
CREATED:20240221T204514Z
LAST-MODIFIED:20240221T204514Z
UID:3191-1711229400-1711233000@laughwithmarc.com
SUMMARY:Laugh Factory Reno
DESCRIPTION:Marc headlines the Laugh Factory inside Silver Legacy Casino.
URL:https://laughwithmarc.com/event/laugh-factory-reno-11
LOCATION:Silver Legacy Casino\, Reno\, Nevada
END:VEVENT
BEGIN:VEVENT
DTSTART;TZID=America/Los_Angeles:20240324T193000
DTEND;TZID=America/Los_Angeles:20240324T203000
DTSTAMP:20260423T080309
CREATED:20240221T204707Z
LAST-MODIFIED:20240316T215418Z
UID:3193-1711308600-1711312200@laughwithmarc.com
SUMMARY:Laugh Factory Reno
DESCRIPTION:Marc headlines the Laugh Factory inside Silver Legacy Casino.
URL:https://laughwithmarc.com/event/laugh-factory-reno-12
LOCATION:Silver Legacy Casino\, Reno\, Nevada
END:VEVENT
BEGIN:VEVENT
DTSTART;VALUE=DATE:20240328
DTEND;VALUE=DATE:20240401
DTSTAMP:20260423T080309
CREATED:20240315T073450Z
LAST-MODIFIED:20240315T073450Z
UID:3208-1711584000-1711929599@laughwithmarc.com
SUMMARY:Punchliner Comedy Club
DESCRIPTION:Marc performs in the Punchliner Comedy Club
URL:https://laughwithmarc.com/event/punchliner-comedy-club-11
LOCATION:Carnival Pride
END:VEVENT
END:VCALENDAR