BEGIN:VCALENDAR
VERSION:2.0
PRODID:-//Laugh With Marc - ECPv6.15.20//NONSGML v1.0//EN
CALSCALE:GREGORIAN
METHOD:PUBLISH
X-WR-CALNAME:Laugh With Marc
X-ORIGINAL-URL:https://laughwithmarc.com
X-WR-CALDESC:Events for Laugh With Marc
REFRESH-INTERVAL;VALUE=DURATION:PT1H
X-Robots-Tag:noindex
X-PUBLISHED-TTL:PT1H
BEGIN:VTIMEZONE
TZID:America/Los_Angeles
BEGIN:DAYLIGHT
TZOFFSETFROM:-0800
TZOFFSETTO:-0700
TZNAME:PDT
DTSTART:20230312T100000
END:DAYLIGHT
BEGIN:STANDARD
TZOFFSETFROM:-0700
TZOFFSETTO:-0800
TZNAME:PST
DTSTART:20231105T090000
END:STANDARD
BEGIN:DAYLIGHT
TZOFFSETFROM:-0800
TZOFFSETTO:-0700
TZNAME:PDT
DTSTART:20240310T100000
END:DAYLIGHT
BEGIN:STANDARD
TZOFFSETFROM:-0700
TZOFFSETTO:-0800
TZNAME:PST
DTSTART:20241103T090000
END:STANDARD
BEGIN:DAYLIGHT
TZOFFSETFROM:-0800
TZOFFSETTO:-0700
TZNAME:PDT
DTSTART:20250309T100000
END:DAYLIGHT
BEGIN:STANDARD
TZOFFSETFROM:-0700
TZOFFSETTO:-0800
TZNAME:PST
DTSTART:20251102T090000
END:STANDARD
END:VTIMEZONE
BEGIN:VEVENT
DTSTART;TZID=America/Los_Angeles:20240402T200000
DTEND;TZID=America/Los_Angeles:20240402T210000
DTSTAMP:20260423T122909
CREATED:20240315T093914Z
LAST-MODIFIED:20240315T094934Z
UID:3250-1712088000-1712091600@laughwithmarc.com
SUMMARY:The Starling Comedy Show
DESCRIPTION:Marc headlines this month of comedy show with special guests. Doors open at 7 PM.
URL:https://laughwithmarc.com/event/the-starling-comedy-show
LOCATION:Starling Bar\, 19380 CA-12\,\, Sonoma\, CA\, 95476
END:VEVENT
BEGIN:VEVENT
DTSTART;VALUE=DATE:20240406
DTEND;VALUE=DATE:20240412
DTSTAMP:20260423T122909
CREATED:20240315T073828Z
LAST-MODIFIED:20240315T073828Z
UID:3210-1712361600-1712879999@laughwithmarc.com
SUMMARY:Punchliner Comedy Club
DESCRIPTION:Marc performs in the Punchliner Comedy Club
URL:https://laughwithmarc.com/event/punchliner-comedy-club-12
LOCATION:Carnival Miracle
END:VEVENT
BEGIN:VEVENT
DTSTART;TZID=America/Los_Angeles:20240412T203000
DTEND;TZID=America/Los_Angeles:20240412T220000
DTSTAMP:20260423T122909
CREATED:20240327T223939Z
LAST-MODIFIED:20240327T223939Z
UID:3266-1712953800-1712959200@laughwithmarc.com
SUMMARY:Comedy Oakland
DESCRIPTION:Marc performs with other Bay Area favorites at Comedy Oakland inside the Washington Inn.
URL:https://laughwithmarc.com/event/comedy-oakland
LOCATION:Wahington Inn\, 495 10th st\, Oakland\, CA
END:VEVENT
BEGIN:VEVENT
DTSTART;VALUE=DATE:20240413
DTEND;VALUE=DATE:20240414
DTSTAMP:20260423T122909
CREATED:20240315T080728Z
LAST-MODIFIED:20240315T080728Z
UID:3213-1712966400-1713052799@laughwithmarc.com
SUMMARY:Open Bar Comedy Taping
DESCRIPTION:Marc records an Open Bar comedy special with Vince Morris and John Charles
URL:https://laughwithmarc.com/event/open-bar-comedy-taping
LOCATION:Looney’s Comedy Club\, 1305 N Academy Blvd\, Colorado Springs\, Colorado\, 80909
END:VEVENT
BEGIN:VEVENT
DTSTART;TZID=America/Los_Angeles:20240414T140000
DTEND;TZID=America/Los_Angeles:20240414T150000
DTSTAMP:20260423T122909
CREATED:20240315T080110Z
LAST-MODIFIED:20240315T080110Z
UID:3216-1713103200-1713106800@laughwithmarc.com
SUMMARY:Barrel Proof Comedy
DESCRIPTION:Marc performs at the Barrel Proof Comedy Lounge\, Sonoma County’s new hotspot for Stand Up Comedy
URL:https://laughwithmarc.com/event/barrel-proof-comedy
LOCATION:Barrel Proof Comedy Club\, 501 Mendocino Ave\, Santa Rosa\, CA
END:VEVENT
BEGIN:VEVENT
DTSTART;VALUE=DATE:20240418
DTEND;VALUE=DATE:20240423
DTSTAMP:20260423T122909
CREATED:20240315T081204Z
LAST-MODIFIED:20240315T081204Z
UID:3222-1713398400-1713830399@laughwithmarc.com
SUMMARY:Punchliner Comedy Club
DESCRIPTION:Marc performs in the Punchliner Comedy Club
URL:https://laughwithmarc.com/event/punchliner-comedy-club-13
LOCATION:Carnival Breeze
END:VEVENT
BEGIN:VEVENT
DTSTART;TZID=America/Los_Angeles:20240424T190000
DTEND;TZID=America/Los_Angeles:20240424T200000
DTSTAMP:20260423T122909
CREATED:20240315T081632Z
LAST-MODIFIED:20240315T081817Z
UID:3224-1713985200-1713988800@laughwithmarc.com
SUMMARY:La Veranda Ristorante Italian
DESCRIPTION:Marc headlines the monthly comedy show here at La Veranda Restaurant
URL:https://laughwithmarc.com/event/la-veranda-ristorante-italian
LOCATION:La Veranda Ristorante Italian\, 444 Railroad Ave\, Pittsburg\, CA\, 94565
END:VEVENT
BEGIN:VEVENT
DTSTART;TZID=America/Los_Angeles:20240426T200000
DTEND;TZID=America/Los_Angeles:20240426T210000
DTSTAMP:20260423T122909
CREATED:20240315T082510Z
LAST-MODIFIED:20240316T215009Z
UID:3229-1714161600-1714165200@laughwithmarc.com
SUMMARY:Pasquali’s Pizza &Pub
DESCRIPTION:Marc makes his first appearance at Pasquali’s Comedy Club with special guest\, Homer Shadowheart
URL:https://laughwithmarc.com/event/pasqualis-comedy-club
LOCATION:Pasquali’s Restaurant\, 100 Cliff St\,\, Negaunee\, MI\, 49866
END:VEVENT
BEGIN:VEVENT
DTSTART;TZID=America/Los_Angeles:20240427T123000
DTEND;TZID=America/Los_Angeles:20240427T133000
DTSTAMP:20260423T122909
CREATED:20240315T083017Z
LAST-MODIFIED:20240315T083532Z
UID:3233-1714221000-1714224600@laughwithmarc.com
SUMMARY:Northern Waters Casino
DESCRIPTION:Marc headlines this fundraiser benefit show with special guest\, Homer Shadowheart\, and Tito Ybarra
URL:https://laughwithmarc.com/event/northern-waters-casino
LOCATION:Northern Waters Casino\, N5384 US-45\,\, Watersmeet\, MI\, 49969
END:VEVENT
BEGIN:VEVENT
DTSTART;TZID=America/Los_Angeles:20240427T210000
DTEND;TZID=America/Los_Angeles:20240427T220000
DTSTAMP:20260423T122909
CREATED:20240315T083355Z
LAST-MODIFIED:20240315T083355Z
UID:3237-1714251600-1714255200@laughwithmarc.com
SUMMARY:Wolvenwood Axe Bar
DESCRIPTION:Marc headlines this special event comedy show with special guest\, Homer Shadowheart
URL:https://laughwithmarc.com/event/wolvenwood-axe-bar
LOCATION:Wolvenwood Axe Bar\, 300 Reservation St\,\, Hancock\, MI\, 49930
END:VEVENT
BEGIN:VEVENT
DTSTART;TZID=America/Los_Angeles:20240428T190000
DTEND;TZID=America/Los_Angeles:20240428T200000
DTSTAMP:20260423T122909
CREATED:20240316T125713Z
LAST-MODIFIED:20240316T125713Z
UID:3242-1714330800-1714334400@laughwithmarc.com
SUMMARY:Island Casino Comedy Show
DESCRIPTION:Marc headline the weekly Island Casino comedy show presented by Bonkerz productions comedy show with special guest\, Homer Shadowheart
URL:https://laughwithmarc.com/event/island-casino-comedy-show
LOCATION:Island Casino\, W 399 US-2\,\, Harris\, MI\, 49845
END:VEVENT
BEGIN:VEVENT
DTSTART;TZID=America/Los_Angeles:20240430T200000
DTEND;TZID=America/Los_Angeles:20240430T213000
DTSTAMP:20260423T122909
CREATED:20240316T214815Z
LAST-MODIFIED:20240316T214850Z
UID:3245-1714507200-1714512600@laughwithmarc.com
SUMMARY:Throckmorton Theater
DESCRIPTION:Marc performs on this weekly showcase at the legendary\, Throckmorton 142 Theater
URL:https://laughwithmarc.com/event/throckmorton-theater
LOCATION:Throckmorton Theater\, 142 Throckmorton Ave\,\, Mill Valley\, CA\, 94941
END:VEVENT
END:VCALENDAR