BEGIN:VCALENDAR
VERSION:2.0
PRODID:-//Laugh With Marc - ECPv6.15.20//NONSGML v1.0//EN
CALSCALE:GREGORIAN
METHOD:PUBLISH
X-ORIGINAL-URL:https://laughwithmarc.com
X-WR-CALDESC:Events for Laugh With Marc
REFRESH-INTERVAL;VALUE=DURATION:PT1H
X-Robots-Tag:noindex
X-PUBLISHED-TTL:PT1H
BEGIN:VTIMEZONE
TZID:America/Los_Angeles
BEGIN:DAYLIGHT
TZOFFSETFROM:-0800
TZOFFSETTO:-0700
TZNAME:PDT
DTSTART:20230312T100000
END:DAYLIGHT
BEGIN:STANDARD
TZOFFSETFROM:-0700
TZOFFSETTO:-0800
TZNAME:PST
DTSTART:20231105T090000
END:STANDARD
BEGIN:DAYLIGHT
TZOFFSETFROM:-0800
TZOFFSETTO:-0700
TZNAME:PDT
DTSTART:20240310T100000
END:DAYLIGHT
BEGIN:STANDARD
TZOFFSETFROM:-0700
TZOFFSETTO:-0800
TZNAME:PST
DTSTART:20241103T090000
END:STANDARD
BEGIN:DAYLIGHT
TZOFFSETFROM:-0800
TZOFFSETTO:-0700
TZNAME:PDT
DTSTART:20250309T100000
END:DAYLIGHT
BEGIN:STANDARD
TZOFFSETFROM:-0700
TZOFFSETTO:-0800
TZNAME:PST
DTSTART:20251102T090000
END:STANDARD
END:VTIMEZONE
BEGIN:VEVENT
DTSTART;VALUE=DATE:20240703
DTEND;VALUE=DATE:20240710
DTSTAMP:20260423T172259
CREATED:20240604T202605Z
LAST-MODIFIED:20240604T202645Z
UID:3364-1719964800-1720569599@laughwithmarc.com
SUMMARY:Punchliner Comedy Club on Carnival Pride
DESCRIPTION:Marc performs nightly at the Punchliner Comedy Club\, aboard Carnival Pride with PG and R-Rated shows. Open seating
URL:https://laughwithmarc.com/event/punchliner-comedy-club-on-carnival-pride
LOCATION:Carnival Pride
END:VEVENT
BEGIN:VEVENT
DTSTART;TZID=America/Los_Angeles:20240721T163000
DTEND;TZID=America/Los_Angeles:20240721T163000
DTSTAMP:20260423T172259
CREATED:20240604T204517Z
LAST-MODIFIED:20240604T204548Z
UID:3371-1721579400-1721579400@laughwithmarc.com
SUMMARY:Native American Comedy Night at Bricktown Comedy Club OKC
DESCRIPTION:Marc performs with Vaughn Eaglebear and Mylo Smith at Bricktown Comedy Club OKC. Start time 4:30 PM
URL:https://laughwithmarc.com/event/native-american-comedy-night-at-bricktown-comedy-club-okc
LOCATION:Bricktown Comedy Club\, 409 E. California Ave.\, Oklahoma City\, OK
END:VEVENT
BEGIN:VEVENT
DTSTART;TZID=America/Los_Angeles:20240731T200000
DTEND;TZID=America/Los_Angeles:20240731T200000
DTSTAMP:20260423T172259
CREATED:20240621T184902Z
LAST-MODIFIED:20240723T174622Z
UID:3378-1722456000-1722456000@laughwithmarc.com
SUMMARY:Canyon Club Brewery Comedy Show
DESCRIPTION:Marc headlines Canyon Club’s monthly comedy show. Featuring Myk Powell and Host Pat McCoy.
URL:https://laughwithmarc.com/event/canyon-club-brewery-comedy-show
LOCATION:Canyon Club Brewing\, 1558 Canyon Rd\, Moraga\, CA\, 94556
END:VEVENT
END:VCALENDAR