BEGIN:VCALENDAR
VERSION:2.0
PRODID:-//Laugh With Marc - ECPv6.15.20//NONSGML v1.0//EN
CALSCALE:GREGORIAN
METHOD:PUBLISH
X-ORIGINAL-URL:https://laughwithmarc.com
X-WR-CALDESC:Events for Laugh With Marc
REFRESH-INTERVAL;VALUE=DURATION:PT1H
X-Robots-Tag:noindex
X-PUBLISHED-TTL:PT1H
BEGIN:VTIMEZONE
TZID:America/Los_Angeles
BEGIN:DAYLIGHT
TZOFFSETFROM:-0800
TZOFFSETTO:-0700
TZNAME:PDT
DTSTART:20240310T100000
END:DAYLIGHT
BEGIN:STANDARD
TZOFFSETFROM:-0700
TZOFFSETTO:-0800
TZNAME:PST
DTSTART:20241103T090000
END:STANDARD
BEGIN:DAYLIGHT
TZOFFSETFROM:-0800
TZOFFSETTO:-0700
TZNAME:PDT
DTSTART:20250309T100000
END:DAYLIGHT
BEGIN:STANDARD
TZOFFSETFROM:-0700
TZOFFSETTO:-0800
TZNAME:PST
DTSTART:20251102T090000
END:STANDARD
BEGIN:DAYLIGHT
TZOFFSETFROM:-0800
TZOFFSETTO:-0700
TZNAME:PDT
DTSTART:20260308T100000
END:DAYLIGHT
BEGIN:STANDARD
TZOFFSETFROM:-0700
TZOFFSETTO:-0800
TZNAME:PST
DTSTART:20261101T090000
END:STANDARD
END:VTIMEZONE
BEGIN:VEVENT
DTSTART;TZID=America/Los_Angeles:20250108T193000
DTEND;TZID=America/Los_Angeles:20250108T193000
DTSTAMP:20260422T195446
CREATED:20250106T181235Z
LAST-MODIFIED:20250107T170814Z
UID:3720-1736364600-1736364600@laughwithmarc.com
SUMMARY:The Greenery Comedy Night
DESCRIPTION:January 8th at 7:30pm Marc takes on the stage to bring you another unforgettable show.
URL:https://laughwithmarc.com/event/the-greenery-comedy-night
LOCATION:The Greenery\, Walnut Creek\, CA
END:VEVENT
BEGIN:VEVENT
DTSTART;TZID=America/Los_Angeles:20250116T000000
DTEND;TZID=America/Los_Angeles:20250129T000000
DTSTAMP:20260422T195446
CREATED:20241111T191335Z
LAST-MODIFIED:20241111T191335Z
UID:3679-1736985600-1738108800@laughwithmarc.com
SUMMARY:Holland America Zuiderdam
DESCRIPTION:Marc is performing aboard the Holland America Zuiderdam from Thursday January 16th to Wednesday January 29th
URL:https://laughwithmarc.com/event/holland-america-zuiderdam
LOCATION:Holland America Zuiderdam
END:VEVENT
BEGIN:VEVENT
DTSTART;TZID=America/Los_Angeles:20250131T200000
DTEND;TZID=America/Los_Angeles:20250201T000000
DTSTAMP:20260422T195446
CREATED:20241111T195940Z
LAST-MODIFIED:20250127T210724Z
UID:3683-1738353600-1738368000@laughwithmarc.com
SUMMARY:Chadwick’s Pub in Medford\, Oregon
DESCRIPTION:Marc performs at Chadwick’s pub inside the Rogue Regency. With Myk Powell and Carl Lee
URL:https://laughwithmarc.com/event/chadwicks-pub-in-medford-oregon
LOCATION:Rogue Regency Inn\, 2300 Biddle Road\, Medford\, OR\, 97504\, United States
END:VEVENT
END:VCALENDAR