BEGIN:VCALENDAR
VERSION:2.0
PRODID:-//Laugh With Marc - ECPv6.15.20//NONSGML v1.0//EN
CALSCALE:GREGORIAN
METHOD:PUBLISH
X-ORIGINAL-URL:https://laughwithmarc.com
X-WR-CALDESC:Events for Laugh With Marc
REFRESH-INTERVAL;VALUE=DURATION:PT1H
X-Robots-Tag:noindex
X-PUBLISHED-TTL:PT1H
BEGIN:VTIMEZONE
TZID:America/Los_Angeles
BEGIN:DAYLIGHT
TZOFFSETFROM:-0800
TZOFFSETTO:-0700
TZNAME:PDT
DTSTART:20240310T100000
END:DAYLIGHT
BEGIN:STANDARD
TZOFFSETFROM:-0700
TZOFFSETTO:-0800
TZNAME:PST
DTSTART:20241103T090000
END:STANDARD
BEGIN:DAYLIGHT
TZOFFSETFROM:-0800
TZOFFSETTO:-0700
TZNAME:PDT
DTSTART:20250309T100000
END:DAYLIGHT
BEGIN:STANDARD
TZOFFSETFROM:-0700
TZOFFSETTO:-0800
TZNAME:PST
DTSTART:20251102T090000
END:STANDARD
BEGIN:DAYLIGHT
TZOFFSETFROM:-0800
TZOFFSETTO:-0700
TZNAME:PDT
DTSTART:20260308T100000
END:DAYLIGHT
BEGIN:STANDARD
TZOFFSETFROM:-0700
TZOFFSETTO:-0800
TZNAME:PST
DTSTART:20261101T090000
END:STANDARD
END:VTIMEZONE
BEGIN:VEVENT
DTSTART;TZID=America/Los_Angeles:20250206T200000
DTEND;TZID=America/Los_Angeles:20250206T200000
DTSTAMP:20260422T073139
CREATED:20241206T181316Z
LAST-MODIFIED:20250117T195118Z
UID:3708-1738872000-1738872000@laughwithmarc.com
SUMMARY:Wild River Comedy
DESCRIPTION:Marc performs with Myk Powell at 8:00 PM
URL:https://laughwithmarc.com/event/wild-river-pub-comedy
LOCATION:Wild River Pizza\, Cave Junction\, OR
END:VEVENT
BEGIN:VEVENT
DTSTART;TZID=America/Los_Angeles:20250207T200000
DTEND;TZID=America/Los_Angeles:20250207T200000
DTSTAMP:20260422T073139
CREATED:20241206T181504Z
LAST-MODIFIED:20250117T195017Z
UID:3711-1738958400-1738958400@laughwithmarc.com
SUMMARY:Wild River Pub Comedy Grant Pass
DESCRIPTION:Marc performs at the Wild River pub at 8 PM in Grants Pass\, Oregon with comedian Myk Powell \n  \n 
URL:https://laughwithmarc.com/event/wild-river-pub-comedy-grant-pass
LOCATION:Wildr River Pub & Public House\, 533 NE F St\, Grants Pass\, OR\, United States
END:VEVENT
BEGIN:VEVENT
DTSTART;TZID=America/Los_Angeles:20250208T200000
DTEND;TZID=America/Los_Angeles:20250208T200000
DTSTAMP:20260422T073139
CREATED:20241206T181606Z
LAST-MODIFIED:20250117T194914Z
UID:3713-1739044800-1739044800@laughwithmarc.com
SUMMARY:Wild Rive Pub Comedy Grant Pass
DESCRIPTION:Marc performs at the Wild River pub 8 PM in Grants Pass\, Oregon Feb 8
URL:https://laughwithmarc.com/event/wild-rive-pub-comedy-grant-pass
LOCATION:Wildr River Pub & Public House\, 533 NE F St\, Grants Pass\, OR\, United States
END:VEVENT
BEGIN:VEVENT
DTSTART;TZID=America/Los_Angeles:20250214T200000
DTEND;TZID=America/Los_Angeles:20250214T200000
DTSTAMP:20260422T073139
CREATED:20241206T182119Z
LAST-MODIFIED:20250204T015731Z
UID:3715-1739563200-1739563200@laughwithmarc.com
SUMMARY:Jazz and Jokes w/ Alicyn Yaffee Antioch\, CA
DESCRIPTION:Marc performs with his daughter\, New York based guitarist/vocalist\, Alicyn Yaffee Feb 14 Valentine’s day
URL:https://laughwithmarc.com/event/jazz-and-jokes
LOCATION:Lone Tree Events Center\, 4800 Golf Course Rd\, antioch\, CA\, 94531\, United States
END:VEVENT
BEGIN:VEVENT
DTSTART;TZID=America/Los_Angeles:20250215T000000
DTEND;TZID=America/Los_Angeles:20250215T170000
DTSTAMP:20260422T073139
CREATED:20250203T202125Z
LAST-MODIFIED:20250207T194553Z
UID:3772-1739577600-1739638800@laughwithmarc.com
SUMMARY:Jazz and Jokes W/ Alicyn Yaffee Lakeport\, CA
DESCRIPTION:Marc Yaffee is performing alongside his daughter\, guitarist and vocalist\, Alicyn Yaffee at Soper Reese Theater
URL:https://laughwithmarc.com/event/jazz-and-jokes-w-alicyn-yaffee-lakeport-ca
END:VEVENT
BEGIN:VEVENT
DTSTART;TZID=America/Los_Angeles:20250217T193000
DTEND;TZID=America/Los_Angeles:20250217T213000
DTSTAMP:20260422T073139
CREATED:20250124T194130Z
LAST-MODIFIED:20250127T193633Z
UID:3745-1739820600-1739827800@laughwithmarc.com
SUMMARY:Native Comedy Jam
DESCRIPTION:A night full of laughs with Native comedians Ernie Tsosie\, Jim Ruel and Marc Yaffee in NH
URL:https://laughwithmarc.com/event/native-comedy-jam
LOCATION:Sawtooth Kitchen\, Bar and Stage\, Under\, Allen St\, Hanover\, NH\, 03755\, United States
END:VEVENT
BEGIN:VEVENT
DTSTART;TZID=America/Los_Angeles:20250218T180000
DTEND;TZID=America/Los_Angeles:20250218T180000
DTSTAMP:20260422T073139
CREATED:20250124T195636Z
LAST-MODIFIED:20250124T195652Z
UID:3748-1739901600-1739901600@laughwithmarc.com
SUMMARY:Native Comedy Jam Silver Center\, NY
DESCRIPTION:A night full of laughs with Native comedians Ernie Tsosie\, Jim Ruel and Marc Yaffee at 6:00 PM Tuesday February 18th 
URL:https://laughwithmarc.com/event/native-comedy-jam-silver-center-ny
LOCATION:Heights Lounge in Silver\, 31 Washington Pl\, New York\, NY\, 10003\, United States
END:VEVENT
BEGIN:VEVENT
DTSTART;TZID=America/Los_Angeles:20250222T193000
DTEND;TZID=America/Los_Angeles:20250222T193000
DTSTAMP:20260422T073139
CREATED:20250124T201606Z
LAST-MODIFIED:20250127T191208Z
UID:3754-1740252600-1740252600@laughwithmarc.com
SUMMARY:Native Comedy Jam in VA
DESCRIPTION:A night full of laughs with Native comedians Ernie Tsosie\, Jim Ruel and Marc Yaffee at 7:00 AND 9:00 PM Saturday February 22nd 
URL:https://laughwithmarc.com/event/native-comedy-jam-in-va
LOCATION:The Cube Virginia Tech\, 190 Alumni Mall\, Blacksburg\, VA\, 24061\, United States
END:VEVENT
BEGIN:VEVENT
DTSTART;TZID=America/Los_Angeles:20250227T193000
DTEND;TZID=America/Los_Angeles:20250227T210000
DTSTAMP:20260422T073139
CREATED:20250131T213802Z
LAST-MODIFIED:20250325T180514Z
UID:3766-1740684600-1740690000@laughwithmarc.com
SUMMARY:Comedy at Moraga Club
DESCRIPTION:Moraga Country Club  Show Thursday Feb 27\, 7:30pm with Marc\, Clara Belle and Ira Sommers.
URL:https://laughwithmarc.com/event/comedy-at-moraga-club
LOCATION:Moraga Country Club\, 1600 St. Andrews\, Moraga\, CA\, 94556\, United States
END:VEVENT
BEGIN:VEVENT
DTSTART;TZID=America/Los_Angeles:20250228T190000
DTEND;TZID=America/Los_Angeles:20250228T190000
DTSTAMP:20260422T073139
CREATED:20250219T222914Z
LAST-MODIFIED:20250220T200631Z
UID:3850-1740769200-1740769200@laughwithmarc.com
SUMMARY:Comedy Night at The Post
DESCRIPTION:
URL:https://laughwithmarc.com/event/comedy-night-at-the-post
LOCATION:The post\, 5801 Stoddard Rd\, Modesto\, CA\, United States
END:VEVENT
END:VCALENDAR