BEGIN:VCALENDAR
VERSION:2.0
PRODID:-//Laugh With Marc - ECPv6.15.20//NONSGML v1.0//EN
CALSCALE:GREGORIAN
METHOD:PUBLISH
X-ORIGINAL-URL:https://laughwithmarc.com
X-WR-CALDESC:Events for Laugh With Marc
REFRESH-INTERVAL;VALUE=DURATION:PT1H
X-Robots-Tag:noindex
X-PUBLISHED-TTL:PT1H
BEGIN:VTIMEZONE
TZID:America/Los_Angeles
BEGIN:DAYLIGHT
TZOFFSETFROM:-0800
TZOFFSETTO:-0700
TZNAME:PDT
DTSTART:20240310T100000
END:DAYLIGHT
BEGIN:STANDARD
TZOFFSETFROM:-0700
TZOFFSETTO:-0800
TZNAME:PST
DTSTART:20241103T090000
END:STANDARD
BEGIN:DAYLIGHT
TZOFFSETFROM:-0800
TZOFFSETTO:-0700
TZNAME:PDT
DTSTART:20250309T100000
END:DAYLIGHT
BEGIN:STANDARD
TZOFFSETFROM:-0700
TZOFFSETTO:-0800
TZNAME:PST
DTSTART:20251102T090000
END:STANDARD
BEGIN:DAYLIGHT
TZOFFSETFROM:-0800
TZOFFSETTO:-0700
TZNAME:PDT
DTSTART:20260308T100000
END:DAYLIGHT
BEGIN:STANDARD
TZOFFSETFROM:-0700
TZOFFSETTO:-0800
TZNAME:PST
DTSTART:20261101T090000
END:STANDARD
END:VTIMEZONE
BEGIN:VEVENT
DTSTART;VALUE=DATE:20250825
DTEND;VALUE=DATE:20250903
DTSTAMP:20260422T023715
CREATED:20250909T144134Z
LAST-MODIFIED:20250909T144134Z
UID:4012-1756080000-1756857599@laughwithmarc.com
SUMMARY:CARNIVAL MIRACLE
DESCRIPTION:Marc  performs on board Carnival Miracle August 25 to September 3 \n 
URL:https://laughwithmarc.com/event/carnival-miracle
LOCATION:Carnival  Miracle
END:VEVENT
BEGIN:VEVENT
DTSTART;TZID=America/Los_Angeles:20250905T200000
DTEND;TZID=America/Los_Angeles:20250905T213000
DTSTAMP:20260422T023715
CREATED:20250910T183308Z
LAST-MODIFIED:20250910T183308Z
UID:4022-1757102400-1757107800@laughwithmarc.com
SUMMARY:2 FUNNY NATIVE COMEDY NIGHT
DESCRIPTION:
URL:https://laughwithmarc.com/event/2-funny-native-comedy-night
LOCATION:Kwa Tak Nuq Casino\, Polson\, MT
END:VEVENT
BEGIN:VEVENT
DTSTART;TZID=America/Los_Angeles:20250906T190000
DTEND;TZID=America/Los_Angeles:20250906T190000
DTSTAMP:20260422T023715
CREATED:20250910T184035Z
LAST-MODIFIED:20250910T184056Z
UID:4026-1757185200-1757185200@laughwithmarc.com
SUMMARY:2 Funny Native Comedy Night
DESCRIPTION:
URL:https://laughwithmarc.com/event/2-funny-native-comedy-night-2
LOCATION:Glacier Peaks Casino\, Browning\, MT
END:VEVENT
BEGIN:VEVENT
DTSTART;TZID=America/Los_Angeles:20250904T193000
DTEND;TZID=America/Los_Angeles:20250904T193000
DTSTAMP:20260422T023715
CREATED:20250904T143030Z
LAST-MODIFIED:20250909T145452Z
UID:4014-1757014200-1757014200@laughwithmarc.com
SUMMARY:Star Valley Ranch
DESCRIPTION:Star Valley RV resort presents Marc Yaffee with special guest Homer Shadowheart
URL:https://laughwithmarc.com/event/star-valley-ranch
LOCATION:Star Valley RV Resort\, Star Valley\, WY
END:VEVENT
BEGIN:VEVENT
DTSTART;VALUE=DATE:20250911
DTEND;VALUE=DATE:20250916
DTSTAMP:20260422T023715
CREATED:20250910T184325Z
LAST-MODIFIED:20250910T184547Z
UID:4030-1757548800-1757980799@laughwithmarc.com
SUMMARY:Carnival Valor
DESCRIPTION:Marc performs at the  Punchliner Comedy Club
URL:https://laughwithmarc.com/event/carnival-valor
END:VEVENT
BEGIN:VEVENT
DTSTART;VALUE=DATE:20250918
DTEND;VALUE=DATE:20250924
DTSTAMP:20260422T023715
CREATED:20250910T184826Z
LAST-MODIFIED:20250910T184826Z
UID:4032-1758153600-1758671999@laughwithmarc.com
SUMMARY:Carnival Vista
DESCRIPTION:Marc peforms on board in the Punchliner Comedy Club
URL:https://laughwithmarc.com/event/carnival-vista-5
LOCATION:Carnival Vista
END:VEVENT
END:VCALENDAR