BEGIN:VCALENDAR
VERSION:2.0
PRODID:-//Laugh With Marc - ECPv6.15.20//NONSGML v1.0//EN
CALSCALE:GREGORIAN
METHOD:PUBLISH
X-ORIGINAL-URL:https://laughwithmarc.com
X-WR-CALDESC:Events for Laugh With Marc
REFRESH-INTERVAL;VALUE=DURATION:PT1H
X-Robots-Tag:noindex
X-PUBLISHED-TTL:PT1H
BEGIN:VTIMEZONE
TZID:America/Los_Angeles
BEGIN:DAYLIGHT
TZOFFSETFROM:-0800
TZOFFSETTO:-0700
TZNAME:PDT
DTSTART:20240310T100000
END:DAYLIGHT
BEGIN:STANDARD
TZOFFSETFROM:-0700
TZOFFSETTO:-0800
TZNAME:PST
DTSTART:20241103T090000
END:STANDARD
BEGIN:DAYLIGHT
TZOFFSETFROM:-0800
TZOFFSETTO:-0700
TZNAME:PDT
DTSTART:20250309T100000
END:DAYLIGHT
BEGIN:STANDARD
TZOFFSETFROM:-0700
TZOFFSETTO:-0800
TZNAME:PST
DTSTART:20251102T090000
END:STANDARD
BEGIN:DAYLIGHT
TZOFFSETFROM:-0800
TZOFFSETTO:-0700
TZNAME:PDT
DTSTART:20260308T100000
END:DAYLIGHT
BEGIN:STANDARD
TZOFFSETFROM:-0700
TZOFFSETTO:-0800
TZNAME:PST
DTSTART:20261101T090000
END:STANDARD
END:VTIMEZONE
BEGIN:VEVENT
DTSTART;VALUE=DATE:20251004
DTEND;VALUE=DATE:20251005
DTSTAMP:20260421T205307
CREATED:20250930T063125Z
LAST-MODIFIED:20250930T063125Z
UID:4036-1759536000-1759622399@laughwithmarc.com
SUMMARY:HOLLAND AMERICA NIEUW AMSTERDAM
DESCRIPTION:Marc performs onboard the Holland America’s Nieuw Amsterdam in the World Stage Theatre
URL:https://laughwithmarc.com/event/holland-america-nieuw-amsterdam-4
LOCATION:Holland America Nieuw Amsterdam
END:VEVENT
BEGIN:VEVENT
DTSTART;VALUE=DATE:20251005
DTEND;VALUE=DATE:20251006
DTSTAMP:20260421T205307
CREATED:20250930T063203Z
LAST-MODIFIED:20250930T063203Z
UID:4038-1759622400-1759708799@laughwithmarc.com
SUMMARY:HOLLAND AMERICA NIEUW AMSTERDAM
DESCRIPTION:Marc performs onboard the Holland America’s Nieuw Amsterdam in the World Stage Theatre
URL:https://laughwithmarc.com/event/holland-america-nieuw-amsterdam-5
LOCATION:Holland America Nieuw Amsterdam
END:VEVENT
BEGIN:VEVENT
DTSTART;VALUE=DATE:20251006
DTEND;VALUE=DATE:20251007
DTSTAMP:20260421T205307
CREATED:20250930T063245Z
LAST-MODIFIED:20250930T063245Z
UID:4040-1759708800-1759795199@laughwithmarc.com
SUMMARY:HOLLAND AMERICA NIEUW AMSTERDAM
DESCRIPTION:Marc performs onboard the Holland America’s Nieuw Amsterdam in the World Stage Theatre
URL:https://laughwithmarc.com/event/holland-america-nieuw-amsterdam-6
LOCATION:Holland America Nieuw Amsterdam
END:VEVENT
BEGIN:VEVENT
DTSTART;VALUE=DATE:20251007
DTEND;VALUE=DATE:20251008
DTSTAMP:20260421T205307
CREATED:20250930T063311Z
LAST-MODIFIED:20250930T063311Z
UID:4042-1759795200-1759881599@laughwithmarc.com
SUMMARY:HOLLAND AMERICA NIEUW AMSTERDAM
DESCRIPTION:Marc performs onboard the Holland America’s Nieuw Amsterdam in the World Stage Theatre
URL:https://laughwithmarc.com/event/holland-america-nieuw-amsterdam-7
LOCATION:Holland America Nieuw Amsterdam
END:VEVENT
BEGIN:VEVENT
DTSTART;VALUE=DATE:20251008
DTEND;VALUE=DATE:20251009
DTSTAMP:20260421T205307
CREATED:20250930T063337Z
LAST-MODIFIED:20250930T063337Z
UID:4044-1759881600-1759967999@laughwithmarc.com
SUMMARY:HOLLAND AMERICA NIEUW AMSTERDAM
DESCRIPTION:Marc performs onboard the Holland America’s Nieuw Amsterdam in the World Stage Theatre
URL:https://laughwithmarc.com/event/holland-america-nieuw-amsterdam-8
LOCATION:Holland America Nieuw Amsterdam
END:VEVENT
BEGIN:VEVENT
DTSTART;VALUE=DATE:20251009
DTEND;VALUE=DATE:20251010
DTSTAMP:20260421T205307
CREATED:20250930T063749Z
LAST-MODIFIED:20250930T063749Z
UID:4050-1759968000-1760054399@laughwithmarc.com
SUMMARY:HOLLAND AMERICA NIEUW AMSTERDAM
DESCRIPTION:Marc performs onboard the Holland America’s Nieuw Amsterdam in the World Stage Theatre
URL:https://laughwithmarc.com/event/holland-america-nieuw-amsterdam-10
LOCATION:Holland America Nieuw Amsterdam
END:VEVENT
BEGIN:VEVENT
DTSTART;VALUE=DATE:20251010
DTEND;VALUE=DATE:20251011
DTSTAMP:20260421T205307
CREATED:20250930T063821Z
LAST-MODIFIED:20250930T063821Z
UID:4052-1760054400-1760140799@laughwithmarc.com
SUMMARY:HOLLAND AMERICA NIEUW AMSTERDAM
DESCRIPTION:Marc performs onboard the Holland America’s Nieuw Amsterdam in the World Stage Theatre
URL:https://laughwithmarc.com/event/holland-america-nieuw-amsterdam-11
LOCATION:Holland America Nieuw Amsterdam
END:VEVENT
BEGIN:VEVENT
DTSTART;VALUE=DATE:20251011
DTEND;VALUE=DATE:20251012
DTSTAMP:20260421T205307
CREATED:20250930T063359Z
LAST-MODIFIED:20250930T063512Z
UID:4046-1760140800-1760227199@laughwithmarc.com
SUMMARY:HOLLAND AMERICA NIEUW AMSTERDAM
DESCRIPTION:Marc performs onboard the Holland America’s Nieuw Amsterdam in the World Stage Theatre
URL:https://laughwithmarc.com/event/holland-america-nieuw-amsterdam-9
LOCATION:Holland America Nieuw Amsterdam
END:VEVENT
BEGIN:VEVENT
DTSTART;VALUE=DATE:20251012
DTEND;VALUE=DATE:20251013
DTSTAMP:20260421T205307
CREATED:20250930T063638Z
LAST-MODIFIED:20250930T063638Z
UID:4048-1760227200-1760313599@laughwithmarc.com
SUMMARY:HOLLAND AMERICA EURODAM
DESCRIPTION:Marc performs onboard the Holland America’s Eurodam in the World Stage Theatre
URL:https://laughwithmarc.com/event/holland-america-eurodam-6
LOCATION:Holland America Nieuw Amsterdam
END:VEVENT
BEGIN:VEVENT
DTSTART;VALUE=DATE:20251013
DTEND;VALUE=DATE:20251014
DTSTAMP:20260421T205307
CREATED:20250930T063854Z
LAST-MODIFIED:20250930T063854Z
UID:4054-1760313600-1760399999@laughwithmarc.com
SUMMARY:HOLLAND AMERICA EURODAM
DESCRIPTION:Marc performs onboard the Holland America’s Eurodam in the World Stage Theatre
URL:https://laughwithmarc.com/event/holland-america-eurodam-7
LOCATION:Holland America Nieuw Amsterdam
END:VEVENT
BEGIN:VEVENT
DTSTART;VALUE=DATE:20251014
DTEND;VALUE=DATE:20251015
DTSTAMP:20260421T205307
CREATED:20250930T063914Z
LAST-MODIFIED:20250930T063914Z
UID:4056-1760400000-1760486399@laughwithmarc.com
SUMMARY:HOLLAND AMERICA EURODAM
DESCRIPTION:Marc performs onboard the Holland America’s Eurodam in the World Stage Theatre
URL:https://laughwithmarc.com/event/holland-america-eurodam-8
LOCATION:Holland America Nieuw Amsterdam
END:VEVENT
BEGIN:VEVENT
DTSTART;VALUE=DATE:20251015
DTEND;VALUE=DATE:20251016
DTSTAMP:20260421T205307
CREATED:20250930T064030Z
LAST-MODIFIED:20250930T064030Z
UID:4060-1760486400-1760572799@laughwithmarc.com
SUMMARY:HOLLAND AMERICA EURODAM
DESCRIPTION:Marc performs onboard the Holland America’s Eurodam in the World Stage Theatre
URL:https://laughwithmarc.com/event/holland-america-eurodam-10
LOCATION:Holland America Nieuw Amsterdam
END:VEVENT
BEGIN:VEVENT
DTSTART;VALUE=DATE:20251016
DTEND;VALUE=DATE:20251017
DTSTAMP:20260421T205307
CREATED:20250930T063946Z
LAST-MODIFIED:20250930T064006Z
UID:4058-1760572800-1760659199@laughwithmarc.com
SUMMARY:HOLLAND AMERICA EURODAM
DESCRIPTION:Marc performs onboard the Holland America’s Eurodam in the World Stage Theatre
URL:https://laughwithmarc.com/event/holland-america-eurodam-9
LOCATION:Holland America Nieuw Amsterdam
END:VEVENT
BEGIN:VEVENT
DTSTART;VALUE=DATE:20251017
DTEND;VALUE=DATE:20251018
DTSTAMP:20260421T205307
CREATED:20250930T064054Z
LAST-MODIFIED:20250930T064054Z
UID:4062-1760659200-1760745599@laughwithmarc.com
SUMMARY:HOLLAND AMERICA EURODAM
DESCRIPTION:Marc performs onboard the Holland America’s Eurodam in the World Stage Theatre
URL:https://laughwithmarc.com/event/holland-america-eurodam-11
LOCATION:Holland America Nieuw Amsterdam
END:VEVENT
BEGIN:VEVENT
DTSTART;VALUE=DATE:20251018
DTEND;VALUE=DATE:20251019
DTSTAMP:20260421T205307
CREATED:20250930T064114Z
LAST-MODIFIED:20250930T064114Z
UID:4064-1760745600-1760831999@laughwithmarc.com
SUMMARY:HOLLAND AMERICA EURODAM
DESCRIPTION:Marc performs onboard the Holland America’s Eurodam in the World Stage Theatre
URL:https://laughwithmarc.com/event/holland-america-eurodam-12
LOCATION:Holland America Nieuw Amsterdam
END:VEVENT
BEGIN:VEVENT
DTSTART;VALUE=DATE:20251019
DTEND;VALUE=DATE:20251020
DTSTAMP:20260421T205307
CREATED:20250930T064140Z
LAST-MODIFIED:20250930T064140Z
UID:4066-1760832000-1760918399@laughwithmarc.com
SUMMARY:HOLLAND AMERICA EURODAM
DESCRIPTION:Marc performs onboard the Holland America’s Eurodam in the World Stage Theatre
URL:https://laughwithmarc.com/event/holland-america-eurodam-13
LOCATION:Holland America Nieuw Amsterdam
END:VEVENT
BEGIN:VEVENT
DTSTART;TZID=America/Los_Angeles:20251025T193000
DTEND;TZID=America/Los_Angeles:20251025T193000
DTSTAMP:20260421T205307
CREATED:20250930T071618Z
LAST-MODIFIED:20250930T071751Z
UID:4068-1761420600-1761420600@laughwithmarc.com
SUMMARY:MARIN COMEDY SHOW AT TREK WINERY
DESCRIPTION:Marc headlines the monthly Trek Winery comedy series presented by Marin Comedy. Featuring Will be Samson Koletkar.
URL:https://laughwithmarc.com/event/marin-comedy-show-at-trek-winery
LOCATION:Trek Winery\, 1026 Machin Ave\, Novato\, CA\, 94945
END:VEVENT
END:VCALENDAR