BEGIN:VCALENDAR
VERSION:2.0
PRODID:-//Laugh With Marc - ECPv6.15.20//NONSGML v1.0//EN
CALSCALE:GREGORIAN
METHOD:PUBLISH
X-WR-CALNAME:Laugh With Marc
X-ORIGINAL-URL:https://laughwithmarc.com
X-WR-CALDESC:Events for Laugh With Marc
REFRESH-INTERVAL;VALUE=DURATION:PT1H
X-Robots-Tag:noindex
X-PUBLISHED-TTL:PT1H
BEGIN:VTIMEZONE
TZID:America/Los_Angeles
BEGIN:DAYLIGHT
TZOFFSETFROM:-0800
TZOFFSETTO:-0700
TZNAME:PDT
DTSTART:20240310T100000
END:DAYLIGHT
BEGIN:STANDARD
TZOFFSETFROM:-0700
TZOFFSETTO:-0800
TZNAME:PST
DTSTART:20241103T090000
END:STANDARD
BEGIN:DAYLIGHT
TZOFFSETFROM:-0800
TZOFFSETTO:-0700
TZNAME:PDT
DTSTART:20250309T100000
END:DAYLIGHT
BEGIN:STANDARD
TZOFFSETFROM:-0700
TZOFFSETTO:-0800
TZNAME:PST
DTSTART:20251102T090000
END:STANDARD
BEGIN:DAYLIGHT
TZOFFSETFROM:-0800
TZOFFSETTO:-0700
TZNAME:PDT
DTSTART:20260308T100000
END:DAYLIGHT
BEGIN:STANDARD
TZOFFSETFROM:-0700
TZOFFSETTO:-0800
TZNAME:PST
DTSTART:20261101T090000
END:STANDARD
BEGIN:DAYLIGHT
TZOFFSETFROM:-0800
TZOFFSETTO:-0700
TZNAME:PDT
DTSTART:20270314T100000
END:DAYLIGHT
BEGIN:STANDARD
TZOFFSETFROM:-0700
TZOFFSETTO:-0800
TZNAME:PST
DTSTART:20271107T090000
END:STANDARD
END:VTIMEZONE
BEGIN:VEVENT
DTSTART;VALUE=DATE:20251227
DTEND;VALUE=DATE:20260103
DTSTAMP:20260422T014105
CREATED:20251202T020845Z
LAST-MODIFIED:20251202T021534Z
UID:4176-1766793600-1767398399@laughwithmarc.com
SUMMARY:Holland America Nieuw Amsterdam
DESCRIPTION:Marc performs in the World Theater onboard the Holland America Nieuw Amsterdam
URL:https://laughwithmarc.com/event/holland-america-nieuw-amsterdam-12
END:VEVENT
BEGIN:VEVENT
DTSTART;TZID=America/Los_Angeles:20260103T200000
DTEND;TZID=America/Los_Angeles:20260103T200000
DTSTAMP:20260422T014105
CREATED:20251202T021439Z
LAST-MODIFIED:20251202T021639Z
UID:4178-1767470400-1767470400@laughwithmarc.com
SUMMARY:Clean Comedy Kings at Black Oak Casino
DESCRIPTION:Marc and Jimmy Della Valle perform at Black Oak Casino in Tuolumne\, CA.  This is a free show open to casino guests 21 and older.
URL:https://laughwithmarc.com/event/clean-comedy-kings-at-black-oak-casino
LOCATION:Black Oak Casino\, 19400 Tuolumne Rd N\, Tuolumne\, CA
END:VEVENT
BEGIN:VEVENT
DTSTART;TZID=America/Los_Angeles:20260110T190000
DTEND;TZID=America/Los_Angeles:20260110T203000
DTSTAMP:20260422T014105
CREATED:20251219T212956Z
LAST-MODIFIED:20251219T213152Z
UID:4188-1768071600-1768077000@laughwithmarc.com
SUMMARY:Pechanga Casino
DESCRIPTION:Marc performs two  at 7 and 9:30pm. Hosted by Luis Villasenor
URL:https://laughwithmarc.com/event/pechanga-casino
LOCATION:Pechanga Casino Temecula\, 45000 Pechanga Parkway\,\, Temecula\, CA\, 92592
END:VEVENT
BEGIN:VEVENT
DTSTART;TZID=America/Los_Angeles:20260110T213000
DTEND;TZID=America/Los_Angeles:20260110T230000
DTSTAMP:20260422T014105
CREATED:20251219T213054Z
LAST-MODIFIED:20251219T213132Z
UID:4191-1768080600-1768086000@laughwithmarc.com
SUMMARY:Pechanga Casino
DESCRIPTION:Marc performs two  at 7 and 9:30pm. Hosted by Luis Villasenor
URL:https://laughwithmarc.com/event/pechanga-casino-2
LOCATION:Pechanga Casino Temecula\, 45000 Pechanga Parkway\,\, Temecula\, CA\, 92592
END:VEVENT
BEGIN:VEVENT
DTSTART;TZID=America/Los_Angeles:20260117T193000
DTEND;TZID=America/Los_Angeles:20260117T210000
DTSTAMP:20260422T014105
CREATED:20251219T214826Z
LAST-MODIFIED:20251219T215227Z
UID:4194-1768678200-1768683600@laughwithmarc.com
SUMMARY:Stubby's Comedy Night
DESCRIPTION:Marc headlines Stubby’s Comedy Night in Cool\, CA.  Hosted by Chicago Steve Barkley
URL:https://laughwithmarc.com/event/stubbys-comedy-night
LOCATION:Stubby’s  Breakfast Bar and Grill\, 1020 Northside Dr Ste A\, Cool\, CA
END:VEVENT
BEGIN:VEVENT
DTSTART;TZID=America/Los_Angeles:20260124T200000
DTEND;TZID=America/Los_Angeles:20260124T213000
DTSTAMP:20260422T014105
CREATED:20251219T220702Z
LAST-MODIFIED:20251219T220702Z
UID:4199-1769284800-1769290200@laughwithmarc.com
SUMMARY:Diamond Mountain Casino
DESCRIPTION:Marc returns to Diamond Mountain Casino with special guest\, Adam Stone.
URL:https://laughwithmarc.com/event/diamond-mountain-casino
LOCATION:Diamond Mountain Casino\, 900 Skyline Dr\, Susanville\, CA
END:VEVENT
BEGIN:VEVENT
DTSTART;TZID=America/Los_Angeles:20260129T200000
DTEND;TZID=America/Los_Angeles:20260129T213000
DTSTAMP:20260422T014105
CREATED:20251219T233651Z
LAST-MODIFIED:20251219T233651Z
UID:4203-1769716800-1769722200@laughwithmarc.com
SUMMARY:Bay Mills Casino Tribal Celebration (Private)
DESCRIPTION:Marc headllines a private tribal celebration.  Special Guest\, Homer Shadowheart.
URL:https://laughwithmarc.com/event/bay-mills-casino-tribal-celebration-private
LOCATION:Bay Mills Resort & Casino\, 11386 W Lakeshore Dr\,\, Brimley\, MI
END:VEVENT
BEGIN:VEVENT
DTSTART;TZID=America/Los_Angeles:20260130T193000
DTEND;TZID=America/Los_Angeles:20260130T210000
DTSTAMP:20260422T014105
CREATED:20251219T235003Z
LAST-MODIFIED:20251219T235112Z
UID:4207-1769801400-1769806800@laughwithmarc.com
SUMMARY:Hooked Entertainment Comedy Series at Everett's Wasilla
DESCRIPTION:Marc makes his debut at Everett’s at the Mat-Su Resort for the Hooked Entertainment Comedy Series.
URL:https://laughwithmarc.com/event/hooked-entertainment-comedy-series-at-everetts-wasilla
LOCATION:Everett’s\, 1850 E Bogard Rd\, Wasilla
END:VEVENT
END:VCALENDAR